BEGIN:VCALENDAR
VERSION:2.0
PRODID:-//CVJM Kierspe - ECPv6.9.0//NONSGML v1.0//EN
CALSCALE:GREGORIAN
METHOD:PUBLISH
X-WR-CALNAME:CVJM Kierspe
X-ORIGINAL-URL:https://cvjm-kierspe.de
X-WR-CALDESC:Veranstaltungen für CVJM Kierspe
REFRESH-INTERVAL;VALUE=DURATION:PT1H
X-Robots-Tag:noindex
X-PUBLISHED-TTL:PT1H
BEGIN:VTIMEZONE
TZID:Europe/Berlin
BEGIN:DAYLIGHT
TZOFFSETFROM:+0100
TZOFFSETTO:+0200
TZNAME:CEST
DTSTART:20230326T010000
END:DAYLIGHT
BEGIN:STANDARD
TZOFFSETFROM:+0200
TZOFFSETTO:+0100
TZNAME:CET
DTSTART:20231029T010000
END:STANDARD
END:VTIMEZONE
BEGIN:VEVENT
DTSTART;TZID=Europe/Berlin:20230617T140000
DTEND;TZID=Europe/Berlin:20230617T170000
DTSTAMP:20260425T060601
CREATED:20230311T121633Z
LAST-MODIFIED:20230311T123007Z
UID:1405-1687010400-1687021200@cvjm-kierspe.de
SUMMARY:CVJM Kreativtag für Erwachsene: Alkohol INK
DESCRIPTION:Am Samstag\, 17. Juni 2023 findet um 14:00 Uhr im Lutherhaus der CVJM Kreativtag statt. \nUnter der Leitung von Renate Hass-Holzemer wird mit hochpigmentierten Tinten auf Alkoholbasis gemalt. \nDer Umkostenbeitrag beträgt 10\,00 € pro Person. \nDas Ende der Veranstaltung ist für 16:30 Uhr / 17:00 Uhr geplant. \nUm Anmeldung wird gebeten unter der E-Mailadresse haas-holzemer@t-online.de\, Telefonnummer 02359/7629 oder Handynummer 015225712662.. \nCVJM Kreativtag
URL:https://cvjm-kierspe.de/event/cvjm-kreativtag-fuer-erwachsene-alkohol-ink/
LOCATION:Lutherhaus Kierspe\, Friedrich-Ebert-Str. 362\, Kierspe\, NRW\, 58566\, Deutschland
END:VEVENT
END:VCALENDAR