BEGIN:VCALENDAR
VERSION:2.0
PRODID:-//CVJM Kierspe - ECPv6.9.0//NONSGML v1.0//EN
CALSCALE:GREGORIAN
METHOD:PUBLISH
X-ORIGINAL-URL:https://cvjm-kierspe.de
X-WR-CALDESC:Veranstaltungen für CVJM Kierspe
REFRESH-INTERVAL;VALUE=DURATION:PT1H
X-Robots-Tag:noindex
X-PUBLISHED-TTL:PT1H
BEGIN:VTIMEZONE
TZID:Europe/Berlin
BEGIN:DAYLIGHT
TZOFFSETFROM:+0100
TZOFFSETTO:+0200
TZNAME:CEST
DTSTART:20230326T010000
END:DAYLIGHT
BEGIN:STANDARD
TZOFFSETFROM:+0200
TZOFFSETTO:+0100
TZNAME:CET
DTSTART:20231029T010000
END:STANDARD
END:VTIMEZONE
BEGIN:VEVENT
DTSTART;TZID=Europe/Berlin:20230923T140000
DTEND;TZID=Europe/Berlin:20230923T170000
DTSTAMP:20260425T021533
CREATED:20230625T155502Z
LAST-MODIFIED:20230625T161905Z
UID:1445-1695477600-1695488400@cvjm-kierspe.de
SUMMARY:CVJM Kreativtag für Erwachsene: Scrap-Booking – Teil 2
DESCRIPTION:Am Samstag\, 23. September 2023 findet ab 14:00 Uhr im Lutherhaus der CVJM Kreativtag statt. \nRenate Hass-Holzemer bietet Scrap-Booking an. Scrapbooking bezeichnet ein Bastelhobby. Fotos werden in ein sogenanntes Scrapbook eingeklebt und mit Aufklebern und anderen zu den Fotos passenden Dingen verziert. \nDer Umkostenbeitrag beträgt 10\,00 € pro Person. \nDas Ende der Veranstaltung ist für 17:00 Uhr geplant. \nUm Anmeldung wird gebeten unter der E-Mailadresse haas-holzemer@t-online.de oder Telefonnummer 02359/7629 sowie Handynummer 015225712662. \n\n  \nCVJM Kreativtag \n7629 oder Handynummer 015225712662.
URL:https://cvjm-kierspe.de/event/cvjm-kreativtag-fuer-erwachsene-quilling-3/
LOCATION:Lutherhaus Kierspe\, Friedrich-Ebert-Str. 362\, Kierspe\, NRW\, 58566\, Deutschland
END:VEVENT
END:VCALENDAR