BEGIN:VCALENDAR
VERSION:2.0
PRODID:-//CVJM Kierspe - ECPv6.9.0//NONSGML v1.0//EN
CALSCALE:GREGORIAN
METHOD:PUBLISH
X-WR-CALNAME:CVJM Kierspe
X-ORIGINAL-URL:https://cvjm-kierspe.de
X-WR-CALDESC:Veranstaltungen für CVJM Kierspe
REFRESH-INTERVAL;VALUE=DURATION:PT1H
X-Robots-Tag:noindex
X-PUBLISHED-TTL:PT1H
BEGIN:VTIMEZONE
TZID:Europe/Berlin
BEGIN:DAYLIGHT
TZOFFSETFROM:+0100
TZOFFSETTO:+0200
TZNAME:CEST
DTSTART:20230326T010000
END:DAYLIGHT
BEGIN:STANDARD
TZOFFSETFROM:+0200
TZOFFSETTO:+0100
TZNAME:CET
DTSTART:20231029T010000
END:STANDARD
END:VTIMEZONE
BEGIN:VEVENT
DTSTART;TZID=Europe/Berlin:20231031T190000
DTEND;TZID=Europe/Berlin:20231031T190000
DTSTAMP:20260424T234631
CREATED:20230825T150934Z
LAST-MODIFIED:20230825T150934Z
UID:1486-1698778800-1698778800@cvjm-kierspe.de
SUMMARY:Gebetskreis
DESCRIPTION:Am letzten Dienstag im Monat lädt der CVJM Kierspe um 19.00 Uhr zum gemeinsamen Gebet ein. Bei dem Gebetstreffen möchten wir voneinander hören\, füreinander und für unseren CVJM beten. \nAnschließend findet ein ökum. Gottesdienst in der Margarethenkirche zum Reformationstag statt.
URL:https://cvjm-kierspe.de/event/gebetskreis-3/
LOCATION:Lutherhaus Kierspe\, Friedrich-Ebert-Str. 362\, Kierspe\, NRW\, 58566\, Deutschland
END:VEVENT
END:VCALENDAR