BEGIN:VCALENDAR
VERSION:2.0
PRODID:-//CVJM Kierspe - ECPv6.9.0//NONSGML v1.0//EN
CALSCALE:GREGORIAN
METHOD:PUBLISH
X-ORIGINAL-URL:https://cvjm-kierspe.de
X-WR-CALDESC:Veranstaltungen für CVJM Kierspe
REFRESH-INTERVAL;VALUE=DURATION:PT1H
X-Robots-Tag:noindex
X-PUBLISHED-TTL:PT1H
BEGIN:VTIMEZONE
TZID:Europe/Berlin
BEGIN:DAYLIGHT
TZOFFSETFROM:+0100
TZOFFSETTO:+0200
TZNAME:CEST
DTSTART:20220327T010000
END:DAYLIGHT
BEGIN:STANDARD
TZOFFSETFROM:+0200
TZOFFSETTO:+0100
TZNAME:CET
DTSTART:20221030T010000
END:STANDARD
END:VTIMEZONE
BEGIN:VEVENT
DTSTART;TZID=Europe/Berlin:20221022T140000
DTEND;TZID=Europe/Berlin:20221022T170000
DTSTAMP:20260425T161008
CREATED:20220724T102338Z
LAST-MODIFIED:20220724T103326Z
UID:1288-1666447200-1666458000@cvjm-kierspe.de
SUMMARY:CVJM Kreativtag für Erwachsene: Basteln mit Tannenzapfen
DESCRIPTION:Am Samstag\, 22. Oktober 2022 findet um 14:00 Uhr im Lutherhaus der CVJM Kreativtag statt. \nUnter der Leitung von Renate Hass-Holzemer wird mit Tannenzapfen gebastelt. \nDer Umkostenbeitrag beträgt 10\,00 € pro Person. \nDas Ende der Veranstaltung ist für 16:30 Uhr / 17:00 Uhr geplant. \nUm Anmeldung wird gebeten unter der E-Mailadresse haas-holzemer@t-online.de oder Telefonnummer 02359/7629. \nCVJM Kreativtag
URL:https://cvjm-kierspe.de/event/cvjm-kreativtag-fuer-erwachsene-basteln-mit-tannenzapfen/
LOCATION:Lutherhaus Kierspe\, Friedrich-Ebert-Str. 362\, Kierspe\, NRW\, 58566\, Deutschland
END:VEVENT
BEGIN:VEVENT
DTSTART;TZID=Europe/Berlin:20221025T190000
DTEND;TZID=Europe/Berlin:20221025T190000
DTSTAMP:20260425T161008
CREATED:20220819T150626Z
LAST-MODIFIED:20220819T150626Z
UID:1342-1666724400-1666724400@cvjm-kierspe.de
SUMMARY:Gebetstreffen
DESCRIPTION:Am letzten Dienstag im Monat lädt der CVJM Kierspe um 19.00 Uhr zum gemeinsamen Gebet ein. Bei dem Gebetstreffen möchten wir voneinander hören\, füreinander und für unseren CVJM beten.
URL:https://cvjm-kierspe.de/event/gebetstreffen-9/
LOCATION:Lutherhaus Kierspe\, Friedrich-Ebert-Str. 362\, Kierspe\, NRW\, 58566\, Deutschland
END:VEVENT
END:VCALENDAR