BEGIN:VCALENDAR
VERSION:2.0
PRODID:-//CVJM Kierspe - ECPv6.9.0//NONSGML v1.0//EN
CALSCALE:GREGORIAN
METHOD:PUBLISH
X-WR-CALNAME:CVJM Kierspe
X-ORIGINAL-URL:https://cvjm-kierspe.de
X-WR-CALDESC:Veranstaltungen für CVJM Kierspe
REFRESH-INTERVAL;VALUE=DURATION:PT1H
X-Robots-Tag:noindex
X-PUBLISHED-TTL:PT1H
BEGIN:VTIMEZONE
TZID:Europe/Berlin
BEGIN:DAYLIGHT
TZOFFSETFROM:+0100
TZOFFSETTO:+0200
TZNAME:CEST
DTSTART:20230326T010000
END:DAYLIGHT
BEGIN:STANDARD
TZOFFSETFROM:+0200
TZOFFSETTO:+0100
TZNAME:CET
DTSTART:20231029T010000
END:STANDARD
END:VTIMEZONE
BEGIN:VEVENT
DTSTART;TZID=Europe/Berlin:20231201T183000
DTEND;TZID=Europe/Berlin:20231201T183000
DTSTAMP:20260424T201228
CREATED:20230825T151444Z
LAST-MODIFIED:20230825T151444Z
UID:1495-1701455400-1701455400@cvjm-kierspe.de
SUMMARY:Mitarbeiter-Adventsfeier
DESCRIPTION:
URL:https://cvjm-kierspe.de/event/mitarbeiter-adventsfeier/
LOCATION:Lutherhaus Kierspe\, Friedrich-Ebert-Str. 362\, Kierspe\, NRW\, 58566\, Deutschland
END:VEVENT
BEGIN:VEVENT
DTSTART;TZID=Europe/Berlin:20231216T140000
DTEND;TZID=Europe/Berlin:20231216T170000
DTSTAMP:20260424T201228
CREATED:20230625T161514Z
LAST-MODIFIED:20231210T104625Z
UID:1458-1702735200-1702746000@cvjm-kierspe.de
SUMMARY:CVJM Kreativtag für Erwachsene: Schmuck basteln
DESCRIPTION:Am Samstag\, 16. Dezember 2023 findet um 14:00 Uhr im Lutherhaus der CVJM Kreativtag statt. \nUnter der Leitung von Renate Hass-Holzemer werden mit Perlen Ohringe\, Armbänder oder Ketten hergestellt. Jeder kann seiner Phantasie vollen Lauf lassen.. \nDer Umkostenbeitrag beträgt 10\,00 € pro Person. \nDas Ende der Veranstaltung ist für 16:30 Uhr / 17:00 Uhr geplant. \nUm Anmeldung wird gebeten unter der E-Mailadresse haas-holzemer@t-online.de oder Telefonnummer 02359/7629 sowie Handynummer 015225712662. \nCVJM Kreativtag
URL:https://cvjm-kierspe.de/event/cvjm-kreativtag-fuer-erwachsene-schmuck-basteln/
LOCATION:Lutherhaus Kierspe\, Friedrich-Ebert-Str. 362\, Kierspe\, NRW\, 58566\, Deutschland
END:VEVENT
END:VCALENDAR