BEGIN:VCALENDAR
VERSION:2.0
PRODID:-//CVJM Kierspe - ECPv6.9.0//NONSGML v1.0//EN
CALSCALE:GREGORIAN
METHOD:PUBLISH
X-ORIGINAL-URL:https://cvjm-kierspe.de
X-WR-CALDESC:Veranstaltungen für CVJM Kierspe
REFRESH-INTERVAL;VALUE=DURATION:PT1H
X-Robots-Tag:noindex
X-PUBLISHED-TTL:PT1H
BEGIN:VTIMEZONE
TZID:Europe/Berlin
BEGIN:DAYLIGHT
TZOFFSETFROM:+0100
TZOFFSETTO:+0200
TZNAME:CEST
DTSTART:20240331T010000
END:DAYLIGHT
BEGIN:STANDARD
TZOFFSETFROM:+0200
TZOFFSETTO:+0100
TZNAME:CET
DTSTART:20241027T010000
END:STANDARD
END:VTIMEZONE
BEGIN:VEVENT
DTSTART;TZID=Europe/Berlin:20240316T140000
DTEND;TZID=Europe/Berlin:20240316T170000
DTSTAMP:20260424T163455
CREATED:20231223T150730Z
LAST-MODIFIED:20231223T150730Z
UID:1531-1710597600-1710608400@cvjm-kierspe.de
SUMMARY:CVJM Kreativtag für Erwachsene: Marmorieren
DESCRIPTION:Am Samstag\, 16. März 2024 findet um 14:00 Uhr im Lutherhaus der CVJM Kreativtag statt. \nUnter der Leitung von Renate Hass-Holzemer werden verschiedene Dinge marmoriert\, das heißt\, mit verschiedenen Farben Tassen\, Gläser und andere Teile überziehen und fixieren\, so das man sie auch benutzen kann. \nDer Umkostenbeitrag beträgt 10\,00 € pro Person. \nDas Ende der Veranstaltung ist für 16:30 Uhr / 17:00 Uhr geplant. \nUm Anmeldung wird gebeten unter der E-Mailadresse haas-holzemer@t-online.de oder Telefonnummer 02359/7629 sowie Handynummer 015225712662. \nCVJM Kreativtag
URL:https://cvjm-kierspe.de/event/cvjm-kreativtag-fuer-erwachsene-schmuck-basteln-3/
LOCATION:Lutherhaus Kierspe\, Friedrich-Ebert-Str. 362\, Kierspe\, NRW\, 58566\, Deutschland
END:VEVENT
BEGIN:VEVENT
DTSTART;TZID=Europe/Berlin:20240326T190000
DTEND;TZID=Europe/Berlin:20240326T190000
DTSTAMP:20260424T163455
CREATED:20240303T110509Z
LAST-MODIFIED:20240303T110509Z
UID:1556-1711479600-1711479600@cvjm-kierspe.de
SUMMARY:Gebetskreis
DESCRIPTION:Am letzten Dienstag im Monat lädt der CVJM Kierspe um 19.00 Uhr zum gemeinsamen Gebet ein. Bei dem Gebetstreffen möchten wir voneinander hören\, füreinander und für unseren CVJM beten.
URL:https://cvjm-kierspe.de/event/gebetskreis-4-2/
LOCATION:Lutherhaus Kierspe\, Friedrich-Ebert-Str. 362\, Kierspe\, NRW\, 58566\, Deutschland
END:VEVENT
BEGIN:VEVENT
DTSTART;TZID=Europe/Berlin:20240329T000000
DTEND;TZID=Europe/Berlin:20240329T000000
DTSTAMP:20260424T163455
CREATED:20240317T113304Z
LAST-MODIFIED:20240317T113304Z
UID:1559-1711670400-1711670400@cvjm-kierspe.de
SUMMARY:Gemeinsame Fahrt zum GLS -Abschlussgottesdienst in Wuppertal
DESCRIPTION:
URL:https://cvjm-kierspe.de/event/gemeinsame-fahrt-zum-gls-abschlussgottesdienst-in-wuppertal/
END:VEVENT
END:VCALENDAR