BEGIN:VCALENDAR
VERSION:2.0
PRODID:-//CVJM Kierspe - ECPv6.9.0//NONSGML v1.0//EN
CALSCALE:GREGORIAN
METHOD:PUBLISH
X-WR-CALNAME:CVJM Kierspe
X-ORIGINAL-URL:https://cvjm-kierspe.de
X-WR-CALDESC:Veranstaltungen für CVJM Kierspe
REFRESH-INTERVAL;VALUE=DURATION:PT1H
X-Robots-Tag:noindex
X-PUBLISHED-TTL:PT1H
BEGIN:VTIMEZONE
TZID:Europe/Berlin
BEGIN:DAYLIGHT
TZOFFSETFROM:+0100
TZOFFSETTO:+0200
TZNAME:CEST
DTSTART:20240331T010000
END:DAYLIGHT
BEGIN:STANDARD
TZOFFSETFROM:+0200
TZOFFSETTO:+0100
TZNAME:CET
DTSTART:20241027T010000
END:STANDARD
END:VTIMEZONE
BEGIN:VEVENT
DTSTART;TZID=Europe/Berlin:20240405T183000
DTEND;TZID=Europe/Berlin:20240406T200000
DTSTAMP:20260424T152046
CREATED:20240301T171638Z
LAST-MODIFIED:20240302T110013Z
UID:1549-1712341800-1712433600@cvjm-kierspe.de
SUMMARY:Gospelworkshop mit Miriam Schäfer
DESCRIPTION:Gospelworkshop mit Miriam Schäfer am 05. und 06. April 2024 im Gemeindehaus der Christuskirche in Kierspe. Miriam Schäfer ist Dozentin der Kreativen Kirche in Witten. \nBeginn:\nFreitag: 18:30 Uhr bis 21:00 Uhr\nSamstag: 10:00 Uhr bis 17:00 Uhr \nAm Samstag findet ab 17:00 Uhr der öffentlicher Abschluss in der Christuskirche statt. \nUmkostenbeitrag: 20\,00 € inkl. Mittagessen und Notenheft. \nEine Anmeldung ist notwendig über die E-Mailadresse haas-holzemer@t-online.de.
URL:https://cvjm-kierspe.de/event/gospelworkshop-mit-miriam-schaefer/
LOCATION:Christuskirche\, Am Denkmal\, Kierspe\, NRW\, 58566\, Deutschland
ORGANIZER;CN="CVJM Gospelchor ALIVE":MAILTO:haas-holzemer@t-online.de
END:VEVENT
BEGIN:VEVENT
DTSTART;TZID=Europe/Berlin:20240413T140000
DTEND;TZID=Europe/Berlin:20240413T170000
DTSTAMP:20260424T152046
CREATED:20240127T110719Z
LAST-MODIFIED:20240127T110719Z
UID:1535-1713016800-1713027600@cvjm-kierspe.de
SUMMARY:CVJM Kreativtag für Erwachsene: Socken stricken mal anders
DESCRIPTION:Am Samstag\, 13. April 2024 findet um 14:00 Uhr im Lutherhaus der CVJM Kreativtag statt. \nUnter der Leitung von Renate Hass-Holzemer werden Socken gestrickt. Dabei geht es darum das wir die Socken von der Spitze anfangen und nicht vom Schaft aus. Hierzu sollte jeder ein Knäul Sockenwolle und ein Nadelspiel Nr. 2\,5 – 3 mm mitbringen. \nDer Umkostenbeitrag beträgt 10\,00 € pro Person. \nDas Ende der Veranstaltung ist für 16:30 Uhr / 17:00 Uhr geplant. \nUm Anmeldung wird gebeten unter der E-Mailadresse haas-holzemer@t-online.de oder Telefonnummer 02359/7629 sowie Handynummer 015225712662.
URL:https://cvjm-kierspe.de/event/cvjm-kreativtag-fuer-erwachsene-schmuck-basteln-3-2/
LOCATION:Lutherhaus Kierspe\, Friedrich-Ebert-Str. 362\, Kierspe\, NRW\, 58566\, Deutschland
END:VEVENT
BEGIN:VEVENT
DTSTART;TZID=Europe/Berlin:20240426T180000
DTEND;TZID=Europe/Berlin:20240426T180000
DTSTAMP:20260424T152046
CREATED:20240303T110951Z
LAST-MODIFIED:20240303T110951Z
UID:1563-1714154400-1714154400@cvjm-kierspe.de
SUMMARY:Jahreshauptversammlung
DESCRIPTION:
URL:https://cvjm-kierspe.de/event/jahreshauptversammlung-2/
LOCATION:Lutherhaus Kierspe\, Friedrich-Ebert-Str. 362\, Kierspe\, NRW\, 58566\, Deutschland
END:VEVENT
BEGIN:VEVENT
DTSTART;TZID=Europe/Berlin:20240430T190000
DTEND;TZID=Europe/Berlin:20240430T190000
DTSTAMP:20260424T152046
CREATED:20240303T110840Z
LAST-MODIFIED:20240303T110840Z
UID:1560-1714503600-1714503600@cvjm-kierspe.de
SUMMARY:Gebetskreis
DESCRIPTION:Am letzten Dienstag im Monat lädt der CVJM Kierspe um 19.00 Uhr zum gemeinsamen Gebet ein. Bei dem Gebetstreffen möchten wir voneinander hören\, füreinander und für unseren CVJM beten.
URL:https://cvjm-kierspe.de/event/gebetskreis-4-2-2/
LOCATION:Lutherhaus Kierspe\, Friedrich-Ebert-Str. 362\, Kierspe\, NRW\, 58566\, Deutschland
END:VEVENT
END:VCALENDAR