BEGIN:VCALENDAR
VERSION:2.0
PRODID:-//CVJM Kierspe - ECPv6.9.0//NONSGML v1.0//EN
CALSCALE:GREGORIAN
METHOD:PUBLISH
X-ORIGINAL-URL:https://cvjm-kierspe.de
X-WR-CALDESC:Veranstaltungen für CVJM Kierspe
REFRESH-INTERVAL;VALUE=DURATION:PT1H
X-Robots-Tag:noindex
X-PUBLISHED-TTL:PT1H
BEGIN:VTIMEZONE
TZID:Europe/Berlin
BEGIN:DAYLIGHT
TZOFFSETFROM:+0100
TZOFFSETTO:+0200
TZNAME:CEST
DTSTART:20230326T010000
END:DAYLIGHT
BEGIN:STANDARD
TZOFFSETFROM:+0200
TZOFFSETTO:+0100
TZNAME:CET
DTSTART:20231029T010000
END:STANDARD
END:VTIMEZONE
BEGIN:VEVENT
DTSTART;TZID=Europe/Berlin:20230225T140000
DTEND;TZID=Europe/Berlin:20230225T170000
DTSTAMP:20260424T071605
CREATED:20221112T212709Z
LAST-MODIFIED:20221210T154234Z
UID:1359-1677333600-1677344400@cvjm-kierspe.de
SUMMARY:CVJM Kreativtag für Erwachsene: Makrame
DESCRIPTION:Am Samstag\, 25. Februar 2023 findet um 14:00 Uhr im Lutherhaus der CVJM Kreativtag statt. \nUnter der Leitung von Renate Hass-Holzemer werden Ornamenten\, Textilien oder Schmuck nach der aus dem Orient kommende Knüpftechnik Makrame gefertigt. \nDer Umkostenbeitrag beträgt 10\,00 € pro Person. \nDas Ende der Veranstaltung ist für 16:30 Uhr / 17:00 Uhr geplant. \nUm Anmeldung wird gebeten unter der E-Mailadresse haas-holzemer@t-online.de oder Telefonnummer 02359/7629. \nCVJM Kreativtag
URL:https://cvjm-kierspe.de/event/cvjm-kreativtag-fuer-erwachsene-makrame/
LOCATION:Lutherhaus Kierspe\, Friedrich-Ebert-Str. 362\, Kierspe\, NRW\, 58566\, Deutschland
END:VEVENT
END:VCALENDAR